BEGIN:VCALENDAR
VERSION:2.0
PRODID:-//Library Market//iCal Export//EN
BEGIN:VEVENT
SUMMARY:Bookmobile @ Centennial Towers
UID:9249
DTSTAMP:20260425T005100Z
DTSTART:20260401T150000Z
DTEND:20260401T160000Z
LOCATION:2502 Sherman Ave., Hays, KS 67601, United States
ROOM: Outside the Library
DESCRIPTION:
URL:https://hays.librarycalendar.com/event/bookmobile-centennial-towers-92
 49
END:VEVENT
END:VCALENDAR
