BEGIN:VCALENDAR
VERSION:2.0
PRODID:-//Library Market//iCal Export//EN
BEGIN:VEVENT
SUMMARY:Meet the Hays Larks
UID:9588
DTSTAMP:20260421T083600Z
DTSTART:20260623T200000Z
DTEND:20260623T210000Z
LOCATION:Hays Public Library, 1205 Main St., Hays, KS 67601, United States
ROOM: Schmidt Community Commons
DESCRIPTION:Come to the library to meet this year&#039;s Hays Larks, take 
 pictures, get autographs and enjoy a frozen treat. 
URL:https://hays.librarycalendar.com/event/meet-hays-larks-9588
END:VEVENT
END:VCALENDAR
